Package: intansv Version: 1.47.0 Command: E:\biocbuild\bbs-3.21-bioc\R\bin\R.exe CMD check --no-multiarch --install=check:intansv.install-out.txt --library=E:\biocbuild\bbs-3.21-bioc\R\library --no-vignettes --timings intansv_1.47.0.tar.gz StartedAt: 2025-02-21 02:26:35 -0500 (Fri, 21 Feb 2025) EndedAt: 2025-02-21 02:33:41 -0500 (Fri, 21 Feb 2025) EllapsedTime: 425.7 seconds RetCode: 0 Status: OK CheckDir: intansv.Rcheck Warnings: 0