Package: intansv Version: 1.47.0 Command: rm -rf intansv.buildbin-libdir && mkdir intansv.buildbin-libdir && E:\biocbuild\bbs-3.21-bioc\R\bin\R.exe CMD INSTALL --build --library=intansv.buildbin-libdir intansv_1.47.0.tar.gz StartedAt: 2025-02-21 08:20:33 -0500 (Fri, 21 Feb 2025) EndedAt: 2025-02-21 08:21:40 -0500 (Fri, 21 Feb 2025) EllapsedTime: 67.4 seconds RetCode: 0 Status: OK PackageFile: intansv_1.47.0.zip PackageFileSize: 701.4 KiB