Package: intansv Version: 1.47.0 Command: /home/biocbuild/bbs-3.21-bioc/R/bin/R CMD INSTALL intansv StartedAt: 2025-02-19 15:45:19 -0500 (Wed, 19 Feb 2025) EndedAt: 2025-02-19 15:46:13 -0500 (Wed, 19 Feb 2025) EllapsedTime: 53.6 seconds RetCode: 0 Status: OK