Package: intansv Version: 1.47.0 Command: /home/biocbuild/bbs-3.21-bioc/R/bin/R CMD build --keep-empty-dirs --no-resave-data intansv StartedAt: 2025-02-19 17:44:49 -0500 (Wed, 19 Feb 2025) EndedAt: 2025-02-19 17:46:17 -0500 (Wed, 19 Feb 2025) EllapsedTime: 87.1 seconds RetCode: 0 Status: OK PackageFile: intansv_1.47.0.tar.gz PackageFileSize: 614.4 KiB