Package: intansv Version: 1.47.0 Command: /Library/Frameworks/R.framework/Resources/bin/R CMD INSTALL intansv StartedAt: 2025-02-20 15:28:14 -0500 (Thu, 20 Feb 2025) EndedAt: 2025-02-20 15:29:22 -0500 (Thu, 20 Feb 2025) EllapsedTime: 68.3 seconds RetCode: 0 Status: OK