Package: intansv Version: 1.47.0 Command: /Library/Frameworks/R.framework/Resources/bin/R CMD check --install=check:intansv.install-out.txt --library=/Library/Frameworks/R.framework/Resources/library --no-vignettes --timings intansv_1.47.0.tar.gz StartedAt: 2025-02-20 21:07:29 -0500 (Thu, 20 Feb 2025) EndedAt: 2025-02-20 21:13:59 -0500 (Thu, 20 Feb 2025) EllapsedTime: 390.2 seconds RetCode: 0 Status: OK CheckDir: intansv.Rcheck Warnings: 0