Package: infercnv Version: 1.23.0 Command: E:\biocbuild\bbs-3.21-bioc\R\bin\R.exe CMD check --no-multiarch --install=check:infercnv.install-out.txt --library=E:\biocbuild\bbs-3.21-bioc\R\library --no-vignettes --timings infercnv_1.23.0.tar.gz StartedAt: 2025-02-21 02:25:05 -0500 (Fri, 21 Feb 2025) EndedAt: 2025-02-21 02:34:30 -0500 (Fri, 21 Feb 2025) EllapsedTime: 565.4 seconds RetCode: 0 Status: OK CheckDir: infercnv.Rcheck Warnings: 0