Package: infercnv Version: 1.23.0 Command: /home/biocbuild/bbs-3.21-bioc/R/bin/R CMD INSTALL infercnv StartedAt: 2025-02-20 15:28:10 -0500 (Thu, 20 Feb 2025) EndedAt: 2025-02-20 15:28:56 -0500 (Thu, 20 Feb 2025) EllapsedTime: 45.7 seconds RetCode: 0 Status: OK