Package: infercnv Version: 1.23.0 Command: /home/biocbuild/bbs-3.21-bioc/R/bin/R CMD build --keep-empty-dirs --no-resave-data infercnv StartedAt: 2025-02-20 17:52:20 -0500 (Thu, 20 Feb 2025) EndedAt: 2025-02-20 17:54:30 -0500 (Thu, 20 Feb 2025) EllapsedTime: 129.1 seconds RetCode: 0 Status: OK PackageFile: infercnv_1.23.0.tar.gz PackageFileSize: 3.944 MiB