Package: infercnv Version: 1.23.0 Command: /Library/Frameworks/R.framework/Resources/bin/R CMD build --keep-empty-dirs --no-resave-data infercnv StartedAt: 2025-02-20 17:04:17 -0500 (Thu, 20 Feb 2025) EndedAt: 2025-02-20 17:06:51 -0500 (Thu, 20 Feb 2025) EllapsedTime: 154.7 seconds RetCode: 0 Status: OK PackageFile: infercnv_1.23.0.tar.gz PackageFileSize: 3.967 MiB