Package: infercnv Version: 1.23.0 Command: rm -rf infercnv.buildbin-libdir && mkdir infercnv.buildbin-libdir && /Users/biocbuild/BBS/utils/build-universal.sh infercnv_1.23.0.tar.gz /Library/Frameworks/R.framework/Resources/bin/R infercnv.buildbin-libdir StartedAt: 2025-02-21 00:36:03 -0500 (Fri, 21 Feb 2025) EndedAt: 2025-02-21 00:37:13 -0500 (Fri, 21 Feb 2025) EllapsedTime: 70.2 seconds RetCode: 0 Status: OK PackageFile: infercnv_1.23.0.tgz PackageFileSize: 4.346 MiB