Package: infercnv Version: 1.23.0 Command: /home/biocbuild/R/R/bin/R CMD INSTALL infercnv StartedAt: 2025-01-29 20:20:11 -0000 (Wed, 29 Jan 2025) EndedAt: 2025-01-29 20:21:13 -0000 (Wed, 29 Jan 2025) EllapsedTime: 62.6 seconds RetCode: 0 Status: OK