Package: impute Version: 1.81.0 Command: chmod a+r impute -R && E:\biocbuild\bbs-3.21-bioc\R\bin\R.exe CMD build --keep-empty-dirs --no-resave-data impute StartedAt: 2025-02-19 19:25:32 -0500 (Wed, 19 Feb 2025) EndedAt: 2025-02-19 19:25:34 -0500 (Wed, 19 Feb 2025) EllapsedTime: 2.0 seconds RetCode: 0 Status: OK PackageFile: impute_1.81.0.tar.gz PackageFileSize: 626.6 KiB