Package: impute Version: 1.81.0 Command: /Library/Frameworks/R.framework/Resources/bin/R CMD check --install=check:impute.install-out.txt --library=/Library/Frameworks/R.framework/Resources/library --no-vignettes --timings impute_1.81.0.tar.gz StartedAt: 2025-02-20 19:47:12 -0500 (Thu, 20 Feb 2025) EndedAt: 2025-02-20 19:47:21 -0500 (Thu, 20 Feb 2025) EllapsedTime: 9.1 seconds RetCode: 0 Status: WARNINGS CheckDir: impute.Rcheck Warnings: 1