Package: impute Version: 1.81.0 Command: /Library/Frameworks/R.framework/Resources/bin/R CMD build --keep-empty-dirs --no-resave-data impute StartedAt: 2025-02-20 16:42:10 -0500 (Thu, 20 Feb 2025) EndedAt: 2025-02-20 16:42:11 -0500 (Thu, 20 Feb 2025) EllapsedTime: 1.0 seconds RetCode: 0 Status: OK PackageFile: impute_1.81.0.tar.gz PackageFileSize: 626.6 KiB