Package: immunotation Version: 1.15.0 Command: E:\biocbuild\bbs-3.21-bioc\R\bin\R.exe CMD check --no-multiarch --install=check:immunotation.install-out.txt --library=E:\biocbuild\bbs-3.21-bioc\R\library --no-vignettes --timings immunotation_1.15.0.tar.gz StartedAt: 2025-02-19 02:02:31 -0500 (Wed, 19 Feb 2025) EndedAt: 2025-02-19 02:09:06 -0500 (Wed, 19 Feb 2025) EllapsedTime: 394.9 seconds RetCode: 0 Status: OK CheckDir: immunotation.Rcheck Warnings: 0