Package: immunotation Version: 1.15.0 Command: /home/biocbuild/bbs-3.21-bioc/R/bin/R CMD INSTALL immunotation StartedAt: 2025-02-18 15:08:08 -0500 (Tue, 18 Feb 2025) EndedAt: 2025-02-18 15:09:19 -0500 (Tue, 18 Feb 2025) EllapsedTime: 70.7 seconds RetCode: 0 Status: OK