Package: immunotation Version: 1.15.0 Command: /Library/Frameworks/R.framework/Resources/bin/R CMD INSTALL immunotation StartedAt: 2025-02-18 15:08:15 -0500 (Tue, 18 Feb 2025) EndedAt: 2025-02-18 15:10:27 -0500 (Tue, 18 Feb 2025) EllapsedTime: 132.0 seconds RetCode: 0 Status: OK