Package: immunotation Version: 1.15.0 Command: /Library/Frameworks/R.framework/Resources/bin/R CMD check --install=check:immunotation.install-out.txt --library=/Library/Frameworks/R.framework/Resources/library --no-vignettes --timings immunotation_1.15.0.tar.gz StartedAt: 2025-02-18 19:48:17 -0500 (Tue, 18 Feb 2025) EndedAt: 2025-02-18 19:57:00 -0500 (Tue, 18 Feb 2025) EllapsedTime: 522.4 seconds RetCode: 0 Status: OK CheckDir: immunotation.Rcheck Warnings: 0