Package: immunogenViewer Version: 1.1.1 Command: E:\biocbuild\bbs-3.21-bioc\R\bin\R.exe CMD INSTALL immunogenViewer StartedAt: 2025-02-19 15:42:48 -0500 (Wed, 19 Feb 2025) EndedAt: 2025-02-19 15:43:23 -0500 (Wed, 19 Feb 2025) EllapsedTime: 35.3 seconds RetCode: 0 Status: OK