Package: immunogenViewer Version: 1.1.1 Command: /home/biocbuild/bbs-3.21-bioc/R/bin/R CMD check --install=check:immunogenViewer.install-out.txt --library=/home/biocbuild/bbs-3.21-bioc/R/site-library --timings immunogenViewer_1.1.1.tar.gz StartedAt: 2025-02-20 22:52:43 -0500 (Thu, 20 Feb 2025) EndedAt: 2025-02-20 22:55:22 -0500 (Thu, 20 Feb 2025) EllapsedTime: 159.2 seconds RetCode: 0 Status: OK CheckDir: immunogenViewer.Rcheck Warnings: 0