Package: immunogenViewer Version: 1.1.1 Command: /home/biocbuild/bbs-3.21-bioc/R/bin/R CMD build --keep-empty-dirs --no-resave-data immunogenViewer StartedAt: 2025-02-20 17:52:09 -0500 (Thu, 20 Feb 2025) EndedAt: 2025-02-20 17:53:00 -0500 (Thu, 20 Feb 2025) EllapsedTime: 51.1 seconds RetCode: 0 Status: OK PackageFile: immunogenViewer_1.1.1.tar.gz PackageFileSize: 676.4 KiB