Package: immunoClust Version: 1.39.3 Command: /home/biocbuild/bbs-3.21-bioc/R/bin/R CMD INSTALL immunoClust StartedAt: 2025-02-20 15:22:45 -0500 (Thu, 20 Feb 2025) EndedAt: 2025-02-20 15:23:09 -0500 (Thu, 20 Feb 2025) EllapsedTime: 24.4 seconds RetCode: 0 Status: OK