Package: immunoClust Version: 1.39.3 Command: /Library/Frameworks/R.framework/Resources/bin/R CMD INSTALL immunoClust StartedAt: 2025-02-20 15:03:56 -0500 (Thu, 20 Feb 2025) EndedAt: 2025-02-20 15:04:05 -0500 (Thu, 20 Feb 2025) EllapsedTime: 9.0 seconds RetCode: 0 Status: OK