Package: immApex Version: 1.1.0 Command: chmod a+r immApex -R && E:\biocbuild\bbs-3.21-bioc\R\bin\R.exe CMD build --keep-empty-dirs --no-resave-data immApex StartedAt: 2025-02-20 19:25:07 -0500 (Thu, 20 Feb 2025) EndedAt: 2025-02-20 19:30:39 -0500 (Thu, 20 Feb 2025) EllapsedTime: 331.5 seconds RetCode: 0 Status: OK PackageFile: immApex_1.1.0.tar.gz PackageFileSize: 2.78 MiB