Package: immApex Version: 1.1.0 Command: rm -rf immApex.buildbin-libdir && mkdir immApex.buildbin-libdir && E:\biocbuild\bbs-3.21-bioc\R\bin\R.exe CMD INSTALL --build --library=immApex.buildbin-libdir immApex_1.1.0.tar.gz StartedAt: 2025-02-21 08:19:44 -0500 (Fri, 21 Feb 2025) EndedAt: 2025-02-21 08:20:38 -0500 (Fri, 21 Feb 2025) EllapsedTime: 54.4 seconds RetCode: 0 Status: OK PackageFile: immApex_1.1.0.zip PackageFileSize: 1.682 MiB