Package: immApex Version: 1.1.0 Command: /home/biocbuild/bbs-3.21-bioc/R/bin/R CMD INSTALL immApex StartedAt: 2025-02-20 15:31:24 -0500 (Thu, 20 Feb 2025) EndedAt: 2025-02-20 15:31:49 -0500 (Thu, 20 Feb 2025) EllapsedTime: 24.8 seconds RetCode: 0 Status: OK