Package: immApex Version: 1.1.0 Command: /home/biocbuild/bbs-3.21-bioc/R/bin/R CMD check --install=check:immApex.install-out.txt --library=/home/biocbuild/bbs-3.21-bioc/R/site-library --timings immApex_1.1.0.tar.gz StartedAt: 2025-02-20 22:52:27 -0500 (Thu, 20 Feb 2025) EndedAt: 2025-02-20 22:56:22 -0500 (Thu, 20 Feb 2025) EllapsedTime: 235.3 seconds RetCode: 0 Status: OK CheckDir: immApex.Rcheck Warnings: 0