Package: immApex Version: 1.1.0 Command: /home/biocbuild/bbs-3.21-bioc/R/bin/R CMD build --keep-empty-dirs --no-resave-data immApex StartedAt: 2025-02-20 17:51:45 -0500 (Thu, 20 Feb 2025) EndedAt: 2025-02-20 17:52:18 -0500 (Thu, 20 Feb 2025) EllapsedTime: 33.0 seconds RetCode: 0 Status: OK PackageFile: immApex_1.1.0.tar.gz PackageFileSize: 2.748 MiB