Package: immApex Version: 1.1.0 Command: /Library/Frameworks/R.framework/Resources/bin/R CMD INSTALL immApex StartedAt: 2025-02-20 15:11:18 -0500 (Thu, 20 Feb 2025) EndedAt: 2025-02-20 15:11:51 -0500 (Thu, 20 Feb 2025) EllapsedTime: 33.0 seconds RetCode: 0 Status: OK