Package: immApex Version: 1.1.0 Command: /Library/Frameworks/R.framework/Resources/bin/R CMD check --install=check:immApex.install-out.txt --library=/Library/Frameworks/R.framework/Resources/library --no-vignettes --timings immApex_1.1.0.tar.gz StartedAt: 2025-02-20 21:05:52 -0500 (Thu, 20 Feb 2025) EndedAt: 2025-02-20 21:11:11 -0500 (Thu, 20 Feb 2025) EllapsedTime: 319.2 seconds RetCode: 0 Status: OK CheckDir: immApex.Rcheck Warnings: 0