Package: immApex Version: 1.1.0 Command: rm -rf immApex.buildbin-libdir && mkdir immApex.buildbin-libdir && /Users/biocbuild/BBS/utils/build-universal.sh immApex_1.1.0.tar.gz /Library/Frameworks/R.framework/Resources/bin/R immApex.buildbin-libdir StartedAt: 2025-02-21 00:35:56 -0500 (Fri, 21 Feb 2025) EndedAt: 2025-02-21 00:36:33 -0500 (Fri, 21 Feb 2025) EllapsedTime: 37.1 seconds RetCode: 0 Status: OK PackageFile: immApex_1.1.0.tgz PackageFileSize: 1.812 MiB