Package: illuminaio Version: 0.49.0 Command: chmod a+r illuminaio -R && E:\biocbuild\bbs-3.21-bioc\R\bin\R.exe CMD build --keep-empty-dirs --no-resave-data illuminaio StartedAt: 2025-02-19 19:23:19 -0500 (Wed, 19 Feb 2025) EndedAt: 2025-02-19 19:24:44 -0500 (Wed, 19 Feb 2025) EllapsedTime: 84.7 seconds RetCode: 0 Status: OK PackageFile: illuminaio_0.49.0.tar.gz PackageFileSize: 301.9 KiB