Package: illuminaio Version: 0.49.0 Command: rm -rf illuminaio.buildbin-libdir && mkdir illuminaio.buildbin-libdir && E:\biocbuild\bbs-3.21-bioc\R\bin\R.exe CMD INSTALL --build --library=illuminaio.buildbin-libdir illuminaio_0.49.0.tar.gz StartedAt: 2025-02-20 07:59:31 -0500 (Thu, 20 Feb 2025) EndedAt: 2025-02-20 08:00:03 -0500 (Thu, 20 Feb 2025) EllapsedTime: 32.1 seconds RetCode: 0 Status: OK PackageFile: illuminaio_0.49.0.zip PackageFileSize: 327.7 KiB