Package: illuminaio Version: 0.49.0 Command: /Library/Frameworks/R.framework/Resources/bin/R CMD INSTALL illuminaio StartedAt: 2025-02-19 15:03:45 -0500 (Wed, 19 Feb 2025) EndedAt: 2025-02-19 15:03:47 -0500 (Wed, 19 Feb 2025) EllapsedTime: 2.0 seconds RetCode: 0 Status: OK