Package: igvShiny Version: 1.3.0 Command: E:\biocbuild\bbs-3.21-bioc\R\bin\R.exe CMD check --no-multiarch --install=check:igvShiny.install-out.txt --library=E:\biocbuild\bbs-3.21-bioc\R\library --no-vignettes --timings igvShiny_1.3.0.tar.gz StartedAt: 2025-02-21 02:22:03 -0500 (Fri, 21 Feb 2025) EndedAt: 2025-02-21 02:24:39 -0500 (Fri, 21 Feb 2025) EllapsedTime: 156.1 seconds RetCode: 0 Status: OK CheckDir: igvShiny.Rcheck Warnings: 0