Package: igvShiny Version: 1.3.0 Command: /home/biocbuild/bbs-3.21-bioc/R/bin/R CMD INSTALL igvShiny StartedAt: 2025-02-19 15:16:35 -0500 (Wed, 19 Feb 2025) EndedAt: 2025-02-19 15:16:47 -0500 (Wed, 19 Feb 2025) EllapsedTime: 11.7 seconds RetCode: 0 Status: OK