Package: igvShiny Version: 1.3.0 Command: /Library/Frameworks/R.framework/Resources/bin/R CMD INSTALL igvShiny StartedAt: 2025-02-19 15:23:53 -0500 (Wed, 19 Feb 2025) EndedAt: 2025-02-19 15:24:09 -0500 (Wed, 19 Feb 2025) EllapsedTime: 16.0 seconds RetCode: 0 Status: OK