Package: igvShiny Version: 1.3.0 Command: /Library/Frameworks/R.framework/Resources/bin/R CMD build --keep-empty-dirs --no-resave-data igvShiny StartedAt: 2025-02-19 17:03:36 -0500 (Wed, 19 Feb 2025) EndedAt: 2025-02-19 17:04:02 -0500 (Wed, 19 Feb 2025) EllapsedTime: 26.3 seconds RetCode: 0 Status: OK PackageFile: igvShiny_1.3.0.tar.gz PackageFileSize: 4.22 MiB