Package: igvR Version: 1.27.0 Command: E:\biocbuild\bbs-3.21-bioc\R\bin\R.exe CMD INSTALL igvR StartedAt: 2025-02-17 16:33:10 -0500 (Mon, 17 Feb 2025) EndedAt: 2025-02-17 16:35:20 -0500 (Mon, 17 Feb 2025) EllapsedTime: 130.2 seconds RetCode: 0 Status: OK