Package: igvR Version: 1.27.0 Command: /home/biocbuild/bbs-3.21-bioc/R/bin/R CMD INSTALL igvR StartedAt: 2025-02-17 15:58:12 -0500 (Mon, 17 Feb 2025) EndedAt: 2025-02-17 15:58:52 -0500 (Mon, 17 Feb 2025) EllapsedTime: 39.9 seconds RetCode: 0 Status: OK