Package: igvR Version: 1.27.0 Command: /Library/Frameworks/R.framework/Resources/bin/R CMD INSTALL igvR StartedAt: 2025-02-17 15:19:45 -0500 (Mon, 17 Feb 2025) EndedAt: 2025-02-17 15:20:40 -0500 (Mon, 17 Feb 2025) EllapsedTime: 55.5 seconds RetCode: 0 Status: OK