Package: igvR Version: 1.27.0 Command: /Library/Frameworks/R.framework/Resources/bin/R CMD check --install=check:igvR.install-out.txt --library=/Library/Frameworks/R.framework/Resources/library --no-vignettes --timings igvR_1.27.0.tar.gz StartedAt: 2025-02-17 21:01:14 -0500 (Mon, 17 Feb 2025) EndedAt: 2025-02-17 21:06:06 -0500 (Mon, 17 Feb 2025) EllapsedTime: 291.9 seconds RetCode: 0 Status: OK CheckDir: igvR.Rcheck Warnings: 0