Package: igvR Version: 1.27.0 Command: /Library/Frameworks/R.framework/Resources/bin/R CMD build --keep-empty-dirs --no-resave-data igvR StartedAt: 2025-02-17 16:39:48 -0500 (Mon, 17 Feb 2025) EndedAt: 2025-02-17 16:40:11 -0500 (Mon, 17 Feb 2025) EllapsedTime: 23.3 seconds RetCode: 0 Status: OK PackageFile: igvR_1.27.0.tar.gz PackageFileSize: 8.593 MiB