Package: idr2d Version: 1.21.0 Command: E:\biocbuild\bbs-3.21-bioc\R\bin\R.exe CMD INSTALL idr2d StartedAt: 2025-02-20 15:36:44 -0500 (Thu, 20 Feb 2025) EndedAt: 2025-02-20 15:37:10 -0500 (Thu, 20 Feb 2025) EllapsedTime: 25.7 seconds RetCode: 0 Status: OK