Package: idr2d Version: 1.21.0 Command: rm -rf idr2d.buildbin-libdir && mkdir idr2d.buildbin-libdir && E:\biocbuild\bbs-3.21-bioc\R\bin\R.exe CMD INSTALL --build --library=idr2d.buildbin-libdir idr2d_1.21.0.tar.gz StartedAt: 2025-02-21 08:19:01 -0500 (Fri, 21 Feb 2025) EndedAt: 2025-02-21 08:19:50 -0500 (Fri, 21 Feb 2025) EllapsedTime: 49.3 seconds RetCode: 0 Status: OK PackageFile: idr2d_1.21.0.zip PackageFileSize: 1.351 MiB