Package: idr2d Version: 1.21.0 Command: /home/biocbuild/bbs-3.21-bioc/R/bin/R CMD INSTALL idr2d StartedAt: 2025-02-20 15:43:04 -0500 (Thu, 20 Feb 2025) EndedAt: 2025-02-20 15:43:17 -0500 (Thu, 20 Feb 2025) EllapsedTime: 13.7 seconds RetCode: 0 Status: OK