Package: idr2d Version: 1.21.0 Command: /Library/Frameworks/R.framework/Resources/bin/R CMD INSTALL idr2d StartedAt: 2025-02-20 15:12:39 -0500 (Thu, 20 Feb 2025) EndedAt: 2025-02-20 15:13:00 -0500 (Thu, 20 Feb 2025) EllapsedTime: 20.6 seconds RetCode: 0 Status: OK