Package: idr2d Version: 1.21.0 Command: /Library/Frameworks/R.framework/Resources/bin/R CMD build --keep-empty-dirs --no-resave-data idr2d StartedAt: 2025-02-20 17:02:59 -0500 (Thu, 20 Feb 2025) EndedAt: 2025-02-20 17:03:39 -0500 (Thu, 20 Feb 2025) EllapsedTime: 40.1 seconds RetCode: 0 Status: OK PackageFile: idr2d_1.21.0.tar.gz PackageFileSize: 1.644 MiB