Package: idpr Version: 1.17.0 Command: /Library/Frameworks/R.framework/Resources/bin/R CMD INSTALL idpr StartedAt: 2025-02-19 15:10:40 -0500 (Wed, 19 Feb 2025) EndedAt: 2025-02-19 15:10:49 -0500 (Wed, 19 Feb 2025) EllapsedTime: 8.4 seconds RetCode: 0 Status: OK